BEGIN:VCALENDAR
VERSION:2.0
PRODID:-//Old Farm - ECPv6.15.20//NONSGML v1.0//EN
CALSCALE:GREGORIAN
METHOD:PUBLISH
X-WR-CALNAME:Old Farm
X-ORIGINAL-URL:https://oldfarmpool.org
X-WR-CALDESC:Events for Old Farm
REFRESH-INTERVAL;VALUE=DURATION:PT1H
X-Robots-Tag:noindex
X-PUBLISHED-TTL:PT1H
BEGIN:VTIMEZONE
TZID:America/New_York
BEGIN:DAYLIGHT
TZOFFSETFROM:-0500
TZOFFSETTO:-0400
TZNAME:EDT
DTSTART:20250309T070000
END:DAYLIGHT
BEGIN:STANDARD
TZOFFSETFROM:-0400
TZOFFSETTO:-0500
TZNAME:EST
DTSTART:20251102T060000
END:STANDARD
BEGIN:DAYLIGHT
TZOFFSETFROM:-0500
TZOFFSETTO:-0400
TZNAME:EDT
DTSTART:20260308T070000
END:DAYLIGHT
BEGIN:STANDARD
TZOFFSETFROM:-0400
TZOFFSETTO:-0500
TZNAME:EST
DTSTART:20261101T060000
END:STANDARD
BEGIN:DAYLIGHT
TZOFFSETFROM:-0500
TZOFFSETTO:-0400
TZNAME:EDT
DTSTART:20270314T070000
END:DAYLIGHT
BEGIN:STANDARD
TZOFFSETFROM:-0400
TZOFFSETTO:-0500
TZNAME:EST
DTSTART:20271107T060000
END:STANDARD
END:VTIMEZONE
BEGIN:VEVENT
DTSTART;TZID=America/New_York:20260619T180000
DTEND;TZID=America/New_York:20260619T200000
DTSTAMP:20260424T161707
CREATED:20260421T174503Z
LAST-MODIFIED:20260421T174503Z
UID:10000360-1781892000-1781899200@oldfarmpool.org
SUMMARY:School's Out Party
DESCRIPTION:
URL:https://oldfarmpool.org/event/schools-out/
CATEGORIES:Pool Events
END:VEVENT
BEGIN:VEVENT
DTSTART;TZID=America/New_York:20260628T113000
DTEND;TZID=America/New_York:20260628T153000
DTSTAMP:20260424T161707
CREATED:20250504T202259Z
LAST-MODIFIED:20260421T131456Z
UID:10000311-1782646200-1782660600@oldfarmpool.org
SUMMARY:Floating Inflatable Obstacle Course!
DESCRIPTION:Join us for hours of fun on a floating obstacle course!
URL:https://oldfarmpool.org/event/floating-inflatable-obstacle-course/
CATEGORIES:Pool Events
END:VEVENT
END:VCALENDAR