BEGIN:VCALENDAR
VERSION:2.0
PRODID:-//Old Farm - ECPv6.15.20//NONSGML v1.0//EN
CALSCALE:GREGORIAN
METHOD:PUBLISH
X-WR-CALNAME:Old Farm
X-ORIGINAL-URL:https://oldfarmpool.org
X-WR-CALDESC:Events for Old Farm
REFRESH-INTERVAL;VALUE=DURATION:PT1H
X-Robots-Tag:noindex
X-PUBLISHED-TTL:PT1H
BEGIN:VTIMEZONE
TZID:America/New_York
BEGIN:DAYLIGHT
TZOFFSETFROM:-0500
TZOFFSETTO:-0400
TZNAME:EDT
DTSTART:20240310T070000
END:DAYLIGHT
BEGIN:STANDARD
TZOFFSETFROM:-0400
TZOFFSETTO:-0500
TZNAME:EST
DTSTART:20241103T060000
END:STANDARD
BEGIN:DAYLIGHT
TZOFFSETFROM:-0500
TZOFFSETTO:-0400
TZNAME:EDT
DTSTART:20250309T070000
END:DAYLIGHT
BEGIN:STANDARD
TZOFFSETFROM:-0400
TZOFFSETTO:-0500
TZNAME:EST
DTSTART:20251102T060000
END:STANDARD
BEGIN:DAYLIGHT
TZOFFSETFROM:-0500
TZOFFSETTO:-0400
TZNAME:EDT
DTSTART:20260308T070000
END:DAYLIGHT
BEGIN:STANDARD
TZOFFSETFROM:-0400
TZOFFSETTO:-0500
TZNAME:EST
DTSTART:20261101T060000
END:STANDARD
END:VTIMEZONE
BEGIN:VEVENT
DTSTART;TZID=America/New_York:20250618T160000
DTEND;TZID=America/New_York:20250618T210000
DTSTAMP:20260424T233306
CREATED:20250318T212541Z
LAST-MODIFIED:20250318T212541Z
UID:10000036-1750262400-1750280400@oldfarmpool.org
SUMMARY:OFST Tallyho - Pool Closes at 4pm
DESCRIPTION:
URL:https://oldfarmpool.org/event/ofst-tallyho-pool-closes-at-4pm/
CATEGORIES:Swim Team
END:VEVENT
BEGIN:VEVENT
DTSTART;TZID=America/New_York:20250614T090000
DTEND;TZID=America/New_York:20250614T113000
DTSTAMP:20260424T233306
CREATED:20250318T212350Z
LAST-MODIFIED:20250318T212422Z
UID:10000035-1749891600-1749900600@oldfarmpool.org
SUMMARY:OFST Seven Locks
DESCRIPTION:
URL:https://oldfarmpool.org/event/ofst-seven-locks/
CATEGORIES:Swim Team
END:VEVENT
BEGIN:VEVENT
DTSTART;TZID=America/New_York:20250531T190000
DTEND;TZID=America/New_York:20250531T223000
DTSTAMP:20260424T233306
CREATED:20250305T163742Z
LAST-MODIFIED:20250411T135642Z
UID:10000030-1748718000-1748730600@oldfarmpool.org
SUMMARY:Pool Party - Adults Only!!
DESCRIPTION:Get your baby sitters lined up now!!! \n\nSAVE THE DATE! Saturday\, May 31\, 7-10:30pm\n\n\nMark your calendars for our summer kick-off party at the pool\, exclusively for our adult members\, featuring food\, drinks\, DJ\, silent auction\, beer pong tournament\, corn hole\, and open swim for those who want to take a dip! Further details will follow!
URL:https://oldfarmpool.org/event/pool-party-adults-only/
END:VEVENT
BEGIN:VEVENT
DTSTART;TZID=America/New_York:20250531T110000
DTEND;TZID=America/New_York:20250531T180000
DTSTAMP:20260424T233306
CREATED:20250305T164538Z
LAST-MODIFIED:20250305T164538Z
UID:10000031-1748689200-1748714400@oldfarmpool.org
SUMMARY:Pool Hours 11-6:  Closes Early for Adult Party
DESCRIPTION:
URL:https://oldfarmpool.org/event/pool-hours-11-6-closes-early-for-adult-party/
END:VEVENT
BEGIN:VEVENT
DTSTART;TZID=America/New_York:20250527T150000
DTEND;TZID=America/New_York:20250529T200000
DTSTAMP:20260424T233306
CREATED:20250305T163606Z
LAST-MODIFIED:20250411T135718Z
UID:10000029-1748358000-1748548800@oldfarmpool.org
SUMMARY:Pool Open weekdays with "School Hours"
DESCRIPTION:
URL:https://oldfarmpool.org/event/pool-open-weekdays-with-school-hours/
END:VEVENT
END:VCALENDAR